BEGIN:VCALENDAR
VERSION:2.0
PRODID:-//SUR-walks, Andalusien Wandern//NONSGML kigkonsult.se iCalcreator 
 2.30.10//
CALSCALE:GREGORIAN
METHOD:PUBLISH
UID:f1ab2877-d19b-4e1e-bea1-cdc55e7f9631
X-WR-CALNAME:iCagenda
X-WR-CALDESC:Event Management Extension for Joomla!
X-WR-RELCALID:3E26604A-50F4-4449-8B3E-E4F4932D05B5
X-WR-TIMEZONE:UTC
BEGIN:VTIMEZONE
TZID:UTC
END:VTIMEZONE
BEGIN:VEVENT
UID:2c663f58-5425-4e5d-8ac6-f03dfe2f6209
DTSTAMP:20260422T211422Z
CATEGORIES:INFO_de
CLASS:PUBLIC
DESCRIPTION:
DTSTART:20260701T000000Z
DTEND:20260831T000000Z
GEO:00;0
LOCATION:
ORGANIZER:
SEQUENCE:1
SUMMARY:SUR-walks -  Urlaub
TRANSP:OPAQUE
URL:http://www.sur-walks.com/de/programm-tageswanderungen/129-auf-urlaub
END:VEVENT
END:VCALENDAR
