BEGIN:VCALENDAR
VERSION:2.0
PRODID:-//SUR-walks, hiking  Andalucia//NONSGML kigkonsult.se iCalcreator 2
 .30.10//
CALSCALE:GREGORIAN
METHOD:PUBLISH
UID:8102c6c5-fbfe-4d30-ba7b-2ae53919d926
X-WR-CALNAME:iCagenda
X-WR-CALDESC:Event Management Extension for Joomla!
X-WR-RELCALID:3E26604A-50F4-4449-8B3E-E4F4932D05B5
X-WR-TIMEZONE:UTC
BEGIN:VTIMEZONE
TZID:UTC
END:VTIMEZONE
BEGIN:VEVENT
UID:b898f371-3753-4cee-9a85-849966c30d14
DTSTAMP:20260419T163314Z
CATEGORIES:DAYHIKES easy
CLASS:PUBLIC
DESCRIPTION;ALTREP="CID:<FFFF__=0ABBE548DFE235B58f9e8a93d@coffeebean.com>":
 Visit to the beautiful Botanical Garden of La Concepción in Malaga and a s
 troll through Malagas old town\, with time for tapas&nbsp\;\nWe start this
  excursion with a visit to the historic and beautiful Botanical Garden of 
 La Concepción in Malaga. The garden became famous for its exuberant beauty
  and its incredible collection of exotic\, local and even prehistoric plan
 ts. We can 'go around the world in 80 trees' and enjoy the feeling of real
 ly traveling the world.After a short rest we drive to the center of Malaga
  to have a stroll and some tapas.\nDifficulty&nbsp\;\n\neasy – 3 km -&nbsp
 \; 2 hours\, plus time for tapas Malaga\nElevations\n↑↓230m\nPlease bring
 \nHiking shoes\, sun and rain protection\, water&nbsp\;&nbsp\;\nPick up\nE
 stepona 8:30Marbella: 9:00\nEstimated return\n18:00\nPrice: 70€\nIncluded
 \nHiking guide\, insurance and transport to starting point and back\nNot i
 ncluded\nFood and drinks\,&nbsp\;entrance fee to Botanical Gardens (5\,20€
  for retired: 3\,10€)\nReservation required\n&nbsp\;\n
DTSTART:20240604T041400Z
DTEND:20240604T041400Z
GEO:00;0
LOCATION:
ORGANIZER:
SEQUENCE:1
SUMMARY:Botanical Garden of Malaga and Old Town Visit
TRANSP:OPAQUE
URL:https://www.sur-walks.com/component/icagenda/194-botanical-garden/2024-
 06-04-04-14?Itemid=113
END:VEVENT
END:VCALENDAR
