BEGIN:VCALENDAR
VERSION:2.0
PRODID:-//SUR-walks, hiking  Andalucia//NONSGML kigkonsult.se iCalcreator 2
 .30.10//
CALSCALE:GREGORIAN
METHOD:PUBLISH
UID:4dd50d90-0135-474a-8bd6-022cd924c4f5
X-WR-CALNAME:iCagenda
X-WR-CALDESC:Event Management Extension for Joomla!
X-WR-RELCALID:3E26604A-50F4-4449-8B3E-E4F4932D05B5
X-WR-TIMEZONE:UTC
BEGIN:VTIMEZONE
TZID:UTC
END:VTIMEZONE
BEGIN:VEVENT
UID:8b73ac57-327d-4393-8f99-03f3cdf62d28
DTSTAMP:20260422T030825Z
CATEGORIES:DAYHIKES difficult
CLASS:PUBLIC
DESCRIPTION;ALTREP="CID:<FFFF__=0ABBE548DFE235B58f9e8a93d@coffeebean.com>":
 &nbsp\;\n&nbsp\;\nA demanding Mountain Tour to the Highest Peak of the Sie
 rra Blanca\,&nbsp\;famous for its breathtaking views over Marbella and the
  dramatic\, steep slopes on either side of the trail.\nWe begin our route 
 at the Refugio de Juanar\, starting with a gentle walk through a pine fore
 st and olive grove. However\, the path soon turns into a steep and continu
 ous ascent. The effort is well worth it — the panoramic views are simply s
 pectacular. On clear days\, you can see Marbella and the Costa del Sol\, t
 he Rock of Gibraltar\, and even the coast of Africa.\nThe final stretch to
  the summit follows a ridge. It is wide enough to walk safely\, but not re
 commended for those who suffer from vertigo.\n&nbsp\;\nDifficulty&nbsp\;\n
 &nbsp\;high\,&nbsp\;6 - 7 hours\, 13\,5 km. You most be sure-footed and co
 nfortable with heights.\nElevation gain/loss\n&nbsp\;↑↓808m\nPlease bring
 \nGood hiking boots\, sun and rain protection\, food and enough water\,&nb
 sp\;\nPick-up times&nbsp\;\nEstepona 08:30Marbella: 09:00\nExpected return
 \n17:00\nPrice: 65€\nIncludes\nHiking guide\, insurance and transportation
  to&nbsp\; and from the starting point\nNot included\nFood and drinks\nRes
 ervation required
DTSTART:20240216T154500Z
DTEND:20240216T154500Z
GEO:00;0
LOCATION:
ORGANIZER:
SEQUENCE:1
SUMMARY:Climbing 'La Concha' the landmark of Marbella
TRANSP:OPAQUE
URL:https://www.sur-walks.com/component/icagenda/23-concha-from-juanar/2024
 -02-16-15-45?Itemid=113
END:VEVENT
END:VCALENDAR
