BEGIN:VCALENDAR
VERSION:2.0
PRODID:-//SUR-walks, hiking  Andalucia//NONSGML kigkonsult.se iCalcreator 2
 .30.10//
CALSCALE:GREGORIAN
METHOD:PUBLISH
UID:a79c0e99-3e90-4bff-aeb7-148b8a793dd8
X-WR-CALNAME:iCagenda
X-WR-CALDESC:Event Management Extension for Joomla!
X-WR-RELCALID:3E26604A-50F4-4449-8B3E-E4F4932D05B5
X-WR-TIMEZONE:UTC
BEGIN:VTIMEZONE
TZID:UTC
END:VTIMEZONE
BEGIN:VEVENT
UID:690fbd85-ea88-4bd4-b4a0-3083e711675f
DTSTAMP:20260420T023501Z
CATEGORIES:INFO_EN
CLASS:PUBLIC
DESCRIPTION:
DTSTART:20260420T122700Z
DTEND:20260420T122700Z
GEO:00;0
LOCATION:
ORGANIZER:
SEQUENCE:1
SUMMARY:Closed group\, sorry\, date not available for booking
TRANSP:OPAQUE
URL:https://www.sur-walks.com/component/icagenda/387-privat-tour-2/2026-04-
 20-12-27?Itemid=113
END:VEVENT
END:VCALENDAR
