BEGIN:VCALENDAR
VERSION:2.0
PRODID:-//SUR-walks, hiking  Andalucia//NONSGML kigkonsult.se iCalcreator 2
 .30.10//
CALSCALE:GREGORIAN
METHOD:PUBLISH
UID:17ec8073-0de4-4072-929f-ed539e10ca8a
X-WR-CALNAME:iCagenda
X-WR-CALDESC:Event Management Extension for Joomla!
X-WR-RELCALID:3E26604A-50F4-4449-8B3E-E4F4932D05B5
X-WR-TIMEZONE:UTC
BEGIN:VTIMEZONE
TZID:UTC
END:VTIMEZONE
BEGIN:VEVENT
UID:ef875da4-6c51-41ef-b94f-ceae4af80afc
DTSTAMP:20260421T020859Z
CATEGORIES:INFO_EN
CLASS:PUBLIC
DESCRIPTION:
DTSTART:20260421T122800Z
DTEND:20260421T122800Z
GEO:00;0
LOCATION:
ORGANIZER:
SEQUENCE:1
SUMMARY:Closed group\, sorry\, date not available for booking
TRANSP:OPAQUE
URL:https://www.sur-walks.com/component/icagenda/387-privat-tour-2/2026-04-
 21-12-28?Itemid=113
END:VEVENT
END:VCALENDAR
