BEGIN:VCALENDAR
VERSION:2.0
PRODID:-//SUR-walks, hiking  Andalucia//NONSGML kigkonsult.se iCalcreator 2
 .30.10//
CALSCALE:GREGORIAN
METHOD:PUBLISH
UID:96d0f53d-5c4e-4776-9a73-38dc8b799da2
X-WR-CALNAME:iCagenda
X-WR-CALDESC:Event Management Extension for Joomla!
X-WR-RELCALID:3E26604A-50F4-4449-8B3E-E4F4932D05B5
X-WR-TIMEZONE:UTC
BEGIN:VTIMEZONE
TZID:UTC
END:VTIMEZONE
BEGIN:VEVENT
UID:aeece134-a11b-4946-84b8-0ae48bf65d88
DTSTAMP:20260422T042559Z
CATEGORIES:INFO_EN
CLASS:PUBLIC
DESCRIPTION:
DTSTART:20260422T122800Z
DTEND:20260422T122800Z
GEO:00;0
LOCATION:
ORGANIZER:
SEQUENCE:1
SUMMARY:Closed group\, sorry\, date not available for booking
TRANSP:OPAQUE
URL:https://www.sur-walks.com/component/icagenda/387-privat-tour-2/2026-04-
 22-12-28?Itemid=113
END:VEVENT
END:VCALENDAR
