BEGIN:VCALENDAR
VERSION:2.0
PRODID:-//SUR-walks, hiking  Andalucia//NONSGML kigkonsult.se iCalcreator 2
 .30.10//
CALSCALE:GREGORIAN
METHOD:PUBLISH
UID:2458e278-2b01-4415-b827-542bd5e718a6
X-WR-CALNAME:iCagenda
X-WR-CALDESC:Event Management Extension for Joomla!
X-WR-RELCALID:3E26604A-50F4-4449-8B3E-E4F4932D05B5
X-WR-TIMEZONE:UTC
BEGIN:VTIMEZONE
TZID:UTC
END:VTIMEZONE
BEGIN:VEVENT
UID:973ea1ae-56b8-46c6-847c-5bbe1fac7135
DTSTAMP:20260423T084527Z
CATEGORIES:INFO_EN
CLASS:PUBLIC
DESCRIPTION:
DTSTART:20260423T122900Z
DTEND:20260423T122900Z
GEO:00;0
LOCATION:
ORGANIZER:
SEQUENCE:1
SUMMARY:Closed group\, sorry\, date not available for booking
TRANSP:OPAQUE
URL:https://www.sur-walks.com/component/icagenda/387-privat-tour-2/2026-04-
 23-12-29?Itemid=113
END:VEVENT
END:VCALENDAR
