BEGIN:VCALENDAR
VERSION:2.0
PRODID:-//SUR-walks, hiking  Andalucia//NONSGML kigkonsult.se iCalcreator 2
 .30.10//
CALSCALE:GREGORIAN
METHOD:PUBLISH
UID:8f2eb850-5bdb-4ae2-ac00-d2a3f9a7296d
X-WR-CALNAME:iCagenda
X-WR-CALDESC:Event Management Extension for Joomla!
X-WR-RELCALID:3E26604A-50F4-4449-8B3E-E4F4932D05B5
X-WR-TIMEZONE:UTC
BEGIN:VTIMEZONE
TZID:UTC
END:VTIMEZONE
BEGIN:VEVENT
UID:0e7b3eb4-51c1-4856-b074-18c271e85c6e
DTSTAMP:20260424T124201Z
CATEGORIES:INFO_EN
CLASS:PUBLIC
DESCRIPTION:
DTSTART:20260424T122900Z
DTEND:20260424T122900Z
GEO:00;0
LOCATION:
ORGANIZER:
SEQUENCE:1
SUMMARY:Closed group\, sorry\, date not available for booking
TRANSP:OPAQUE
URL:https://www.sur-walks.com/component/icagenda/387-privat-tour-2/2026-04-
 24-12-29?Itemid=113
END:VEVENT
END:VCALENDAR
