BEGIN:VCALENDAR
VERSION:2.0
PRODID:-//SUR-walks, hiking  Andalucia//NONSGML kigkonsult.se iCalcreator 2
 .30.10//
CALSCALE:GREGORIAN
METHOD:PUBLISH
UID:f377734e-0a36-46de-9113-724429cf9ec5
X-WR-CALNAME:iCagenda
X-WR-CALDESC:Event Management Extension for Joomla!
X-WR-RELCALID:3E26604A-50F4-4449-8B3E-E4F4932D05B5
X-WR-TIMEZONE:UTC
BEGIN:VTIMEZONE
TZID:UTC
END:VTIMEZONE
BEGIN:VEVENT
UID:aeb45252-92cf-44a9-b7a5-0e99201c4848
DTSTAMP:20260424T152336Z
CATEGORIES:DAYHIKES difficult
CLASS:PUBLIC
DESCRIPTION;ALTREP="CID:<FFFF__=0ABBE548DFE235B58f9e8a93d@coffeebean.com>":
 Ascent to Pico Mijas (1.150m) from Puerto Colorado and cross-country to Pi
 co Málaga (1.045m) with spectacular views over the village of Mijas\, the 
 Costa del Sol and the surrounding mountains.\n\nThe first part of the rout
 e goes along prepared trails until we reach the summit of Pico Mijas with 
 its weather station\, from there we go cross-country following the ridge o
 f the mountain until we link up again with the route that takes us to Pico
  Malaga and back to the starting point.&nbsp\; It is a demanding route\, b
 ut very beautiful.\nBefore returning we can stop in Mijas for some tapas.
 \nDifficulty\n&nbsp\;high - 12.25 km - approx. 6 hours\nElevation gane/los
 s\n↑↓927m\nPlease bring\nHiking boots\, sun and rain protection\, food and
  sufficient water.\nPick-up\nEstepona 08:30Marbella: 09:00\nEstimated time
  of return\n18:00\nPrice: 65€\nIncluded\nGuide\, insurance and transport t
 o the point of departure and back\nNot included\nFood and drinks\nPrior re
 gistration is required\n&nbsp\;
DTSTART:20230303T180200Z
DTEND:20230303T180200Z
GEO:00;0
LOCATION:
ORGANIZER:
SEQUENCE:1
SUMMARY:Pico Mijas and Pico Málaga
TRANSP:OPAQUE
URL:https://www.sur-walks.com/component/icagenda/423-pico-mijas-and-pico-ma
 laga/2023-03-03-18-02?Itemid=113
END:VEVENT
END:VCALENDAR
