BEGIN:VCALENDAR
VERSION:2.0
PRODID:-//SUR-walks, hiking  Andalucia//NONSGML kigkonsult.se iCalcreator 2
 .30.10//
CALSCALE:GREGORIAN
METHOD:PUBLISH
UID:bae7f003-3bbe-4f10-9e1e-8dab2e0c477f
X-WR-CALNAME:iCagenda
X-WR-CALDESC:Event Management Extension for Joomla!
X-WR-RELCALID:3E26604A-50F4-4449-8B3E-E4F4932D05B5
X-WR-TIMEZONE:UTC
BEGIN:VTIMEZONE
TZID:UTC
END:VTIMEZONE
BEGIN:VEVENT
UID:30032f00-9fe7-4f84-83fb-547e7a0307bd
DTSTAMP:20260421T102339Z
CATEGORIES:DAYHIKES medium
CLASS:PUBLIC
DESCRIPTION;ALTREP="CID:<FFFF__=0ABBE548DFE235B58f9e8a93d@coffeebean.com>":
 The Grazalema mountains are one of the most famous and impressive hiking a
 reas in Andalusia. Hike along the 'Arroyo del Campobuches' river and back 
 along forest paths with wonderful views\n\nOur hike begins outside the pic
 turesque village of Grazalema\, which is surrounded by mountains\, at a hu
 ge old oak tree\, the 'Chaparro de las Ánimas'. We follow the riverbed of 
 the Arroyo Campobuch\, a beautiful path through meadows and forests. In sp
 ring\, the river is covered with the white flowers of the aquatic plant 'R
 anunculus Peltatus' (pond water-crowfoot)\, a spectacular sight! The way b
 ack along forest roads and paths has a little more altitude to overcome\, 
 but we can enjoy a wonderful view.\nAt the end of the hike\, we visit the 
 village of Grazalema and can enjoy tapas on the picturesque village square
  in front of the church.\nDifficulty\nmedium 10\,5 km\, about 3-4 hours\ne
 levations\n↑↓236m\nPlease bring\nHiking boots\, sun and rain protection an
 d plenty of water\nPick-up\nEstepona&nbsp\;8:30Marbella: 9:00\nEstimated r
 eturn\n18:00\nPrice: 75€\nIncluded\nGuide\, insurance\, transport to the s
 tarting point and back\nNot included\nFood and drinks\nPrevious registrati
 on necessary
DTSTART:20240402T225700Z
DTEND:20240402T225700Z
GEO:00;0
LOCATION:
ORGANIZER:
SEQUENCE:1
SUMMARY:Grazalema - flowering meadows\, river valley and mountains
TRANSP:OPAQUE
URL:https://www.sur-walks.com/component/icagenda/463-grazalema-campobuches-
 en/2024-04-02-22-57?Itemid=113
END:VEVENT
END:VCALENDAR
