BEGIN:VCALENDAR
VERSION:2.0
PRODID:-//SUR-walks, Andalusien Wandern//NONSGML kigkonsult.se iCalcreator 
 2.30.10//
CALSCALE:GREGORIAN
METHOD:PUBLISH
UID:15ad4f95-0c22-4a5e-af6f-1adc3fa2ab47
X-WR-CALNAME:iCagenda
X-WR-CALDESC:Event Management Extension for Joomla!
X-WR-RELCALID:3E26604A-50F4-4449-8B3E-E4F4932D05B5
X-WR-TIMEZONE:UTC
BEGIN:VTIMEZONE
TZID:UTC
END:VTIMEZONE
BEGIN:VEVENT
UID:43a27605-94e0-4fbd-a1ed-229e23bce729
DTSTAMP:20260422T083504Z
CATEGORIES:INFO_de
CLASS:PUBLIC
DESCRIPTION:
DTSTART:20260420T000000Z
DTEND:20260508T000000Z
GEO:00;0
LOCATION:
ORGANIZER:
SEQUENCE:1
SUMMARY:Geschlossene Gruppe - Datum nicht verfügbar für Buchungen
TRANSP:OPAQUE
URL:https://www.sur-walks.com/de/component/icagenda/386-geschlossene-gruppe
 ?Itemid=115
END:VEVENT
END:VCALENDAR
