BEGIN:VCALENDAR
VERSION:2.0
PRODID:-//SUR-walks, Andalusien Wandern//NONSGML kigkonsult.se iCalcreator 
 2.30.10//
CALSCALE:GREGORIAN
METHOD:PUBLISH
UID:78a055f7-3b0d-44b4-8aec-ffd4e3881860
X-WR-CALNAME:iCagenda
X-WR-CALDESC:Event Management Extension for Joomla!
X-WR-RELCALID:3E26604A-50F4-4449-8B3E-E4F4932D05B5
X-WR-TIMEZONE:UTC
BEGIN:VTIMEZONE
TZID:UTC
END:VTIMEZONE
BEGIN:VEVENT
UID:cfb93072-7310-416f-b7bc-2efec2c3e6b0
DTSTAMP:20260421T035003Z
CATEGORIES:TAGESWANDERUNGEN schwierig
CLASS:PUBLIC
DESCRIPTION;ALTREP="CID:<FFFF__=0ABBE548DFE235B58f9e8a93d@coffeebean.com>":
 Aufstieg zum Pico Mijas (1.150 m) vom Puerto Colorado und querfeldein zum 
 Pico Málaga (1.045 m) mit spektakulärer Aussicht auf das Dorf Mijas\, die 
 Costa del Sol und die umliegenden Berge\n\nDer erste Teil der Route führt 
 über präparierte Wege bis zum Gipfel des Pico Mijas mit seiner Wetterstati
 on. Von dort aus geht es querfeldein entlang des Bergkamms\, bis wir uns w
 ieder auf den Weg kommen\, der uns zum Pico Malaga und zurück zum Ausgangs
 punkt führt.&nbsp\; Es ist eine anspruchsvolle Strecke\, aber sehr schön.
 \nVor der Rückkehr können wir in Mijas einkehren und ein paar Tapas essen.
 \nSchwierigkeitsgrad&nbsp\;\n&nbsp\;hoch - 12.25 km - etwa 6 Stunden\nHöhe
 nunterschiede\n↑↓927m\nMitzubringen\nGute Bergschuhe\, Regen/Sonnenschutz\
 , Verpflegung und genügend Wasser\n\nAbholung\nEstepona: 8:30Marbella 9:00
 \nPreis: 65€\nInbegriffen\nWanderführer\, Versicherung und Transport zum A
 usgangspunkt und zurück\nNicht inbegriffen\nEssen und Getränke\nVorherige 
 Anmeldung unbedingt erforderlich
DTSTART:20230303T180200Z
DTEND:20230303T180200Z
GEO:00;0
LOCATION:
ORGANIZER:
SEQUENCE:1
SUMMARY:Pico Mijas und Pico Málaga
TRANSP:OPAQUE
URL:https://www.sur-walks.com/de/component/icagenda/424-pico-mijas-und-pico
 -malaga/2023-03-03-18-02?Itemid=115
END:VEVENT
END:VCALENDAR
