BEGIN:VCALENDAR
VERSION:2.0
PRODID:-//SUR-walks, Andalusien Wandern//NONSGML kigkonsult.se iCalcreator 
 2.30.10//
CALSCALE:GREGORIAN
METHOD:PUBLISH
UID:7496ced5-2c80-49b5-8325-a533a955a12b
X-WR-CALNAME:iCagenda
X-WR-CALDESC:Event Management Extension for Joomla!
X-WR-RELCALID:3E26604A-50F4-4449-8B3E-E4F4932D05B5
X-WR-TIMEZONE:UTC
BEGIN:VTIMEZONE
TZID:UTC
END:VTIMEZONE
BEGIN:VEVENT
UID:e69fb284-52ea-4502-8a05-9ad1d6177a79
DTSTAMP:20260423T082647Z
CATEGORIES:TAGESWANDERUNGEN mittelschwer
CLASS:PUBLIC
DESCRIPTION;ALTREP="CID:<FFFF__=0ABBE548DFE235B58f9e8a93d@coffeebean.com>":
 Bergdörfer\, Wälder von Kastanien\, Eichen und Erlen am Fluss\, ein schöne
 r Wanderweg mit Brücken und Bademöglichkeit im Fluss\, diese Tour hat einf
 ach alles. Ideal für heiße Tage\nZwischen den beiden Bergdörfern Benarrabá
  und Genalguacil liegt das Tal des Genalflusses\, an dem unsere Wanderung 
 entlang geht. Alleine die Fahrt dorhin ist traumhaft schön und wir werden 
 diesmal auch die Fahrt als Rundweg gestalten\, um viel von der Umgebung zu
  sehen. Fast die gesamte Wanderung verläuft durch den Wald\, also immer Sc
 hatten und Wasser\, viele Bademöglichkeiten.&nbsp\;\nSchwierigkeitsgrad\n&
 nbsp\;leicht/mittel - 8\,4 km - ca. 3\,5 Stunden\nHöhenunterschiede\n↑↓276
 m\nBitte mitbringen\nWanderschuhe oder Sportschuhe die nass werden dürfen\
 , Sonnenschutz\, ausreichend Trinkwasser\, Badesachen\, Verpflegung.\nAbho
 lzeiten\nMarbella: 9:00 Estepona 9:30\nVoraussichtliche Rückkehr\n18:00\nP
 reis: 70€\nInbegriffen\n&nbsp\;Wanderführer\, Versicherung\, Transport zum
  Ausgangspunkt und zurück\nNicht inbegriffen\nEssen und Getränke\nVorherig
 e Anmeldung unbedingt erforderlich
DTSTART:20260528T143700Z
DTEND:20260528T143700Z
GEO:00;0
LOCATION:
ORGANIZER:
SEQUENCE:1
SUMMARY:Wanderstege im Genal Flusstal bei Genalguacil
TRANSP:OPAQUE
URL:https://www.sur-walks.com/de/programm-tageswanderungen/286-wanderstege-
 genal/2026-05-28-14-37
END:VEVENT
END:VCALENDAR
