BEGIN:VCALENDAR
VERSION:2.0
PRODID:-//SUR-walks, Andalusien Wandern//NONSGML kigkonsult.se iCalcreator 
 2.30.10//
CALSCALE:GREGORIAN
METHOD:PUBLISH
UID:c169af70-fba9-438a-803b-4be2f00f13bb
X-WR-CALNAME:iCagenda
X-WR-CALDESC:Event Management Extension for Joomla!
X-WR-RELCALID:3E26604A-50F4-4449-8B3E-E4F4932D05B5
X-WR-TIMEZONE:UTC
BEGIN:VTIMEZONE
TZID:UTC
END:VTIMEZONE
BEGIN:VEVENT
UID:f6e3dd0c-5baa-46c1-a2fa-76ba8758ed77
DTSTAMP:20260423T082750Z
CATEGORIES:TAGESWANDERUNGEN mittelschwer
CLASS:PUBLIC
DESCRIPTION;ALTREP="CID:<FFFF__=0ABBE548DFE235B58f9e8a93d@coffeebean.com>":
 Eine Rundwanderung in der Sierra Blanca von Marbella\, mit etwas Anstieg u
 nd als Belohnung eine traumhafte Aussicht auf Küste und Berge. Wir wandern
  durch Wälder\, Blumen\, Kräuter und einen alten Olivenhain\nDefinitiv ein
 e der schönsten Wanderrouten in der Sierra Blanca\, mit atemberaubenden Au
 sblicken auf die Sierra Canucha und auf den Torrecilla\, den höchsten Gipf
 el der Sierra de las Nieves\, einer großen Vielfalt an Landschaften\, Vege
 tation und Geologie. Unser Weg beginnt auf etwa 800 m Höhe und führt in Se
 rpentinen stetig bergauf\, mit Rosmarin\, Thymian und vielen Blumen am Weg
 esrand\, mit Blick auf das Mittelmeer\, und auf der anderen Seite des Berg
 es zu einem Pass auf knapp über 1000 m. Auf dem Pass angekommen\, folgen w
 ir einem angenehmen\, relativ flachen Weg\, der sich entlang des Bergrücke
 ns schlängelt\, vorbei an einem kleinen Pinsapo-Wald\, einer besonderen Ba
 umart\, die nur in Andalusien und im Rif-Gebirge von Morokko wächst. Der z
 weite Teil der Wanderung führt uns zu einer völlig anderen geologischen La
 ndschaft\, der Viborilla ist eine überraschende und sehr einzigartig gefor
 mte Felsformation. Von dort wandern wir durch einen tiefen Pinienwald\, ei
 nen Olivenhain und einen Eukalyptuswald zurück zum Ausgangspunkt.\nSchwier
 igkeitsgrad\nmittel - 9 km - ca. 3 -4 Stunden\nHöhenunterschiede\n↑↓528 m
 \nMitzubringen\nWanderschuhe\, Regen/Sonnenschutz\,&nbsp\;Verpflegung und&
 nbsp\;ausreichend Trinkwasser\nAbholzeiten\nEstepona 8:30Marbella: 9:00\nV
 oraussichtliche Rückkehr\n16:00\nPreis: 60€\nInbegriffen\nWanderführer\, T
 ransport zum Ausgangspunkt und zurück\nNicht inbegriffen\nEssen und Geträn
 ke\nVorherige Anmeldung unbedingt erforderlich
DTSTART:20260521T113900Z
DTEND:20260521T113900Z
GEO:+36.580696;-4.884088
LOCATION:
ORGANIZER:
SEQUENCE:1
SUMMARY:Die Pozuelo und Viborilla Route - Berge\, Wälder und traumhafte Aus
 sicht
TRANSP:OPAQUE
URL:https://www.sur-walks.com/de/programm-tageswanderungen/31-die-pozuelo-r
 oute/2026-05-21-11-39
END:VEVENT
END:VCALENDAR
