BEGIN:VCALENDAR
VERSION:2.0
PRODID:-//SUR-walks, Andalusien Wandern//NONSGML kigkonsult.se iCalcreator 
 2.30.10//
CALSCALE:GREGORIAN
METHOD:PUBLISH
UID:4d8d201d-025d-42af-8522-74ea4d7702d2
X-WR-CALNAME:iCagenda
X-WR-CALDESC:Event Management Extension for Joomla!
X-WR-RELCALID:3E26604A-50F4-4449-8B3E-E4F4932D05B5
X-WR-TIMEZONE:UTC
BEGIN:VTIMEZONE
TZID:UTC
END:VTIMEZONE
BEGIN:VEVENT
UID:19467ae3-c80f-452b-be7d-85b05bbf2f69
DTSTAMP:20260423T083052Z
CATEGORIES:TAGESWANDERUNGEN leicht
CLASS:PUBLIC
DESCRIPTION;ALTREP="CID:<FFFF__=0ABBE548DFE235B58f9e8a93d@coffeebean.com>":
 Eine leichte Wanderung durch das Tal des Guadaiza Flusses\, am Stausee vor
 bei duch den Wald\, duch üppige Vegetation\, ein Vogelparadies\, kristallk
 lares Wasser\, ein kleines Paradis ganz nahe an Marbella\nZu den Besonderh
 eiten unserer Küste gehört\, dass nur wenige Kilometer vom Strand entfernt
 \, eine noch fast unberührte Wald und Berglandschaft beginnt\, die man oft
  nicht erwartet. Unser Weg beginnt ganz nahe an luxuriösen Wohnsiedlungen 
 oberhalb von Marbella und führt uns dem Guadaza Fluss entlang tief in den 
 Wald. Wir folgen zuerest einer Forststrasse\, nach dem Stausee wird der We
 g schmäler und führt durch üppige Vegetation dem Fluss entlang. Schattige 
 Plätze am Ufer laden zur Rast bevor wir den Rückweg antreten.\nSchwierigke
 itsgrad\n&nbsp\;leicht\, 6\,5km\nHöhenunterschiede\n↑↓112m\nMitzubringen\n
 Wanderschuhe\, ausreichend Trinkwasser\, Verpflegung\n\nAbholzeiten\nEstep
 ona 09:00\nMarbella: 09:30\nVoraussichtliche Rückkehr\n15:00\nPreis: 60€\n
 Inbegriffen\nWanderführer\, Versicherung\, Transport zum Ausgangspunkt und
  zurück\nNicht inbegriffen\nEssen und Getränke\nVorherige Anmeldung unbedi
 ngt erforderlich
DTSTART:20260519T142700Z
DTEND:20260519T142700Z
GEO:00;0
LOCATION:
ORGANIZER:
SEQUENCE:1
SUMMARY:Rio Guadaiza - Wald- und Flussuferwanderung
TRANSP:OPAQUE
URL:https://www.sur-walks.com/de/programm-tageswanderungen/314-rio-guadaiza
 -flusswanderung/2026-05-19-14-27
END:VEVENT
END:VCALENDAR
