BEGIN:VCALENDAR
VERSION:2.0
PRODID:-//SUR-walks, Andalusien Wandern//NONSGML kigkonsult.se iCalcreator 
 2.30.10//
CALSCALE:GREGORIAN
METHOD:PUBLISH
UID:1b45c3f7-2732-4c5e-acec-96742198737a
X-WR-CALNAME:iCagenda
X-WR-CALDESC:Event Management Extension for Joomla!
X-WR-RELCALID:3E26604A-50F4-4449-8B3E-E4F4932D05B5
X-WR-TIMEZONE:UTC
BEGIN:VTIMEZONE
TZID:UTC
END:VTIMEZONE
BEGIN:VEVENT
UID:da8fb4f2-350a-48c5-a613-562bbc4b75a7
DTSTAMP:20260423T083405Z
CATEGORIES:TAGESWANDERUNGEN leicht
CLASS:PUBLIC
DESCRIPTION;ALTREP="CID:<FFFF__=0ABBE548DFE235B58f9e8a93d@coffeebean.com>":
 Eine kurze Wanderung in der Nähe von Istán\, entlang des Río Verde zum 'Ca
 nalón'\, einem wunderschönen natürlichen Felsenpool\, der zum Schwimmen im
  kristallklaren Wasser einlädt\, eine perfekte Sommertour\nWir fahren auf 
 einer Forststraße vom Dorf aus den Fluss hinauf und wandern etwa 3 Kilomet
 er von unserem Ziel entfernt\, dem Tal des Río Verde folgend\, zum 'Charco
  del Canalón'\, einem beliebten Ziel für diejenigen\, die ein kühles Bad i
 m Fluss genießen! Ein alter Bewässerungskanal oberhalb des Felsbeckens bil
 det einen Wasserfall\, der wie ein Vorhang im Hintergrund wirkt. Es ist ei
 n einfacher Spaziergang\, nur ganz am Ende klettern wir über einige Felsen
 \, um zum Becken zu gelangen. Eine tolle Tour für alle\, die Wasser mögen.
 \nSchwierigkeitsgrad\n&nbsp\;leicht/mittel\, 6km\, &nbsp\;3 Stunden\nHöhen
 unterschiede\n↑↓160m\nAbholung&nbsp\;\nEstepona 8:30\nMarbella 9:00\nVorau
 ssichtliche Rückkehr\n16:00\n\nPreis: 65€\nInbegriffen\nWanderführer\, Ver
 sicherung und Transport zum Ausgangspunkt und zurück\nNicht inbegriffen\nE
 ssen und Getränke\nVorherige Anmeldung unbedingt erforderlich
DTSTART:20260526T141000Z
DTEND:20260526T141000Z
GEO:+36.5821;-4.949701
LOCATION:
ORGANIZER:
SEQUENCE:1
SUMMARY:Istán - Flusspool 'Charco del Canalón' SOMMER VERSION
TRANSP:OPAQUE
URL:https://www.sur-walks.com/de/programm-tageswanderungen/394-istan-riverp
 ool-charco-del-canalon-summer-version-2/2026-05-26-14-10
END:VEVENT
END:VCALENDAR
