BEGIN:VCALENDAR
VERSION:2.0
PRODID:-//SUR-walks, Andalusien Wandern//NONSGML kigkonsult.se iCalcreator 
 2.30.10//
CALSCALE:GREGORIAN
METHOD:PUBLISH
UID:42223e3e-92a3-40ed-8e67-b8bcea848b23
X-WR-CALNAME:iCagenda
X-WR-CALDESC:Event Management Extension for Joomla!
X-WR-RELCALID:3E26604A-50F4-4449-8B3E-E4F4932D05B5
X-WR-TIMEZONE:UTC
BEGIN:VTIMEZONE
TZID:UTC
END:VTIMEZONE
BEGIN:VEVENT
UID:8d1b16f7-0f92-4397-9f05-3a06b600b0cd
DTSTAMP:20260423T085750Z
CATEGORIES:TAGESWANDERUNGEN mittelschwer
CLASS:PUBLIC
DESCRIPTION;ALTREP="CID:<FFFF__=0ABBE548DFE235B58f9e8a93d@coffeebean.com>":
 Rundwanderung von Igualeja zum Mirador (Aussichtspunkt) und dem Dorf Pujer
 ra\, durch Kastanienwälder und mit wunderbarem Blick auf die umliegenden B
 erge und Dörfer\n\nPujerra ist eines der verstecktesten Dörfer in der Serr
 ania de Ronda\, mit nur 350 Einwohnern ist das Leben in diesem Dorf sehr r
 uhig. Umgeben von Kastanienwäldern\, besonders spektakulär zur Blütezeit i
 m Juni.&nbsp\; Wir besuchen das Dorf und seinen Aussichtspunkt\, von dem a
 us wir einen herrlichen Blick auf die Wälder\, Berge und Dörfer der Gegend
  genießen können\, bevor wir auf einem anderen Weg zum Ausgangspunkt zurüc
 kkehren. Und am Ende der Route können wir Igualeja besuchen\, das Dorf\, i
 n dem der Fluss Genal unter einem riesigen Felsen entspringt. Zeit für ein
 e Pause und ein paar Tapas\, bevor es mit dem SUR-walks-Fahrzeug zurück an
  die Küste geht.\nSchwierigkeitsgrad\n&nbsp\;mittel - 14\,2 km - etwa 4\,5
  Stunden\nHöhenunterschiede\n↑↓420m\nBitte mitbringen\nWanderschuhe\, Wass
 er\, Sonnen und Regenschutz\, snack\nAbholung\nEstepona 8:30\nMarbella: 9:
 00\nVoraussichtliche Rückkehr\n&nbsp\;17:00\nPreis: 65€\nInbegriffen\nWand
 erführer\, Haftpflichtversicherung\, Transport zum Startpunkt und zurück\n
 Nicht inbegriffen\nEssen und Getränke\nAnmeldung unbedingt erforderlich&nb
 sp\;\n&nbsp\;
DTSTART:20260618T141800Z
DTEND:20260618T141800Z
GEO:00;0
LOCATION:
ORGANIZER:
SEQUENCE:1
SUMMARY:Der Aussichtspunkt von Pujerra\, speziell zur Kastanienblüte
TRANSP:OPAQUE
URL:https://www.sur-walks.com/de/programm-tageswanderungen/476-aussichtspun
 kt-pujerra/2026-06-18-14-18
END:VEVENT
END:VCALENDAR
