BEGIN:VCALENDAR
VERSION:2.0
PRODID:-//SUR-walks, Andalusien Wandern//NONSGML kigkonsult.se iCalcreator 
 2.30.10//
CALSCALE:GREGORIAN
METHOD:PUBLISH
UID:1bc458a6-fbf9-41b3-9208-7669d34622c6
X-WR-CALNAME:iCagenda
X-WR-CALDESC:Event Management Extension for Joomla!
X-WR-RELCALID:3E26604A-50F4-4449-8B3E-E4F4932D05B5
X-WR-TIMEZONE:UTC
BEGIN:VTIMEZONE
TZID:UTC
END:VTIMEZONE
BEGIN:VEVENT
UID:254b2b76-e5e9-4b1f-8bd1-17810776e574
DTSTAMP:20260423T084557Z
CATEGORIES:TAGESWANDERUNGEN schwierig
CLASS:PUBLIC
DESCRIPTION;ALTREP="CID:<FFFF__=0ABBE548DFE235B58f9e8a93d@coffeebean.com>":
 &nbsp\;Diese Route hat alles zu bieten\, von historischen Denkmälern über 
 eine große Vielfalt an Bäumen und Pflanzen bis hin zu atemberaubenden Ausb
 licken über das Flussbett und beeindruckenden Felsformationen.\nUnsere Rou
 te beginnt und endet im Dorf Jimena de la Frontera. Wir besuchen die mauri
 sche Burg und verlassen das Dorf über einen römischen Weg entlang des E4\,
  einem europäischen Fernwanderweg. Wir wandern durch Pinien- und Korkeiche
 nwälder mit vielen Aussichtspunkten\, von denen aus wir das Tal des Flusse
 s Hozcargata überblicken\, der sich seinen Weg durch riesige Felsen und Wä
 lder bahnt.\nAm höchsten Punkt der Route\, nach etwa 6\,6 km\, verlassen w
 ir den E4 und steigen zum Fluss hinab. Nachdem wir ihn überquert haben\, f
 olgen wir dem Fluss stromabwärts zurück in Richtung Dorf.\nSchwierigkeitsg
 rad\n&nbsp\;hoch&nbsp\; &nbsp\;20\,9 km&nbsp\;- etwa 6-7 Stunden\nHöhenunt
 erschiede\n↑↓662m\nBitte mitbringen\nWanderschuhe\, Sonnen- und Regenschut
 z\, ausreichend Wasser. Auf dieser Wanderung kommen wir nur am Anfang und 
 am Ende an Dörfern oder Bars vorbei\, bitte bringe&nbsp\; Speisen und Getr
 änke mit.\nAbholzeiten\nMarbella: 9:00Estepona : 9:30\nVoraussichtliche Rü
 ckkehr\n18:00\nPreis: 65€\nIm Preis inbegriffen\nWanderführer\, Versicheru
 ng und Transport zum Ausgangspunkt und zurück\nNicht im Preis inbegriffen
 \nVerpflegung und Getränke\nReservierung erforderlich\n&nbsp\;\n&nbsp\;
DTSTART:20260522T144900Z
DTEND:20260522T144900Z
GEO:00;0
LOCATION:
ORGANIZER:
SEQUENCE:1
SUMMARY:Jimena - Römerstraße\, Aussichtspunkte\, Wald und Fluss
TRANSP:OPAQUE
URL:https://www.sur-walks.com/de/programm-tageswanderungen/520-jimena-aussi
 chtspunkte-fluss/2026-05-22-14-49
END:VEVENT
END:VCALENDAR
