BEGIN:VCALENDAR
VERSION:2.0
PRODID:-//SUR-walks, Andalusien Wandern//NONSGML kigkonsult.se iCalcreator 
 2.30.10//
CALSCALE:GREGORIAN
METHOD:PUBLISH
UID:bd020109-1d58-45ec-9af7-60f667938df8
X-WR-CALNAME:iCagenda
X-WR-CALDESC:Event Management Extension for Joomla!
X-WR-RELCALID:3E26604A-50F4-4449-8B3E-E4F4932D05B5
X-WR-TIMEZONE:UTC
BEGIN:VTIMEZONE
TZID:UTC
END:VTIMEZONE
BEGIN:VEVENT
UID:282b6349-51fb-4fdf-925c-6d04790f3fc6
DTSTAMP:20260423T084752Z
CATEGORIES:TAGESWANDERUNGEN mittelschwer
CLASS:PUBLIC
DESCRIPTION;ALTREP="CID:<FFFF__=0ABBE548DFE235B58f9e8a93d@coffeebean.com>":
 Von Faraján\, einem versteckten weißen Dorf im Rondagebirge\, zu den Balas
 ter-Wasserfällen\n\nUnsere Tour beginnt in dem malerischen weißen Dorf und
  führt uns durch Farmen und Wälder zu Wasserfällen und hinunter zum Fluss 
 Genal. Die Aussicht über das Tal\, die umliegenden Berge und die Dörfer in
  der Ferne ist atemberaubend. Während wir wandern\, wechselt die Vegetatio
 n von Kastanienbäumen über Korkeichen und Pappeln bis hin zu Olivenbäumen.
  Am Ende unserer Wanderung besuchen wir das Dorf Faraján\, wo wir lokale T
 apas probieren können.\nSchwierigkeitsgrad\n&nbsp\;mittel - 8\,9km - 4 &nb
 sp\;Stunden&nbsp\;\nHöhenunterschiede\n&nbsp\;↑↓ 457m\nBitte mitbringen\nW
 anderschuhe\, Sonnen-/Regenschutz\, ausreichend Wasser\nAbholung\nEstepona
  8:30 Marbella: 9:00\nVoraussichtliche Rückkehr\n18:00\nPreis: 70€\nIm Pre
 is inbegriffen\nWanderführer\, Versicherung und Transport zum Ausgangspunk
 t und zurück.\nNicht im Preis inbegriffen\nVerpflegung und Getränke.\nRese
 rvierung erforderlich.
DTSTART:20260514T144300Z
DTEND:20260514T144300Z
GEO:00;0
LOCATION:
ORGANIZER:
SEQUENCE:1
SUMMARY:Bergdorf Faraján und Wasserfälle
TRANSP:OPAQUE
URL:https://www.sur-walks.com/de/programm-tageswanderungen/523-farajan-wass
 erfalle/2026-05-14-14-43
END:VEVENT
END:VCALENDAR
