BEGIN:VCALENDAR
VERSION:2.0
PRODID:-//SUR-walks, Andalusien Wandern//NONSGML kigkonsult.se iCalcreator 
 2.30.10//
CALSCALE:GREGORIAN
METHOD:PUBLISH
UID:c54f9706-e2fa-4969-a9cb-d1d00fb6c1e4
X-WR-CALNAME:iCagenda
X-WR-CALDESC:Event Management Extension for Joomla!
X-WR-RELCALID:3E26604A-50F4-4449-8B3E-E4F4932D05B5
X-WR-TIMEZONE:UTC
BEGIN:VTIMEZONE
TZID:UTC
END:VTIMEZONE
BEGIN:VEVENT
UID:98ba619e-f375-450e-849a-5892ec9c6480
DTSTAMP:20260423T083257Z
CATEGORIES:TAGESWANDERUNGEN mittelschwer
CLASS:PUBLIC
DESCRIPTION;ALTREP="CID:<FFFF__=0ABBE548DFE235B58f9e8a93d@coffeebean.com>":
 Der Río de la Miel ist ein Ausläufer des Regenwaldes\, ein erstaunliches Ö
 kosystem im Los Alcornocales Korkwald. Wir wandern auf den Pfaden der Kork
 schneider und entlang des Flusses im tiefsten Jungle\nFür alle\, die Andal
 usiens unbekannteste und unerwartetste Winkel kennenlernen wollen\, ist da
 s die&nbsp\;faszinierendste Tour.&nbsp\;Sie führt uns dem Fluss entlang\, 
 durch üppig grüne Vegetation\, zu natürlichen Schwimmbecken\, mit Wasserfä
 llen und kristallklarem Wasser.&nbsp\;Wir wandern über eine römische Brück
 e in den Korkeichenwald\, auf den Spuren der Korkschneider\, grossteils im
  Schatten der Bäume\, und auf einem schmalen Pfad über Stock und Stein dem
  Fluss entlang. Ein wenig Abenteuergeist und Geländetauglichkeit ist schon
  erforderlich.\nSchwierigkeitsgrad\n&nbsp\;mittel - 8\,8 km - ca. 3\,5 Stu
 nden\nHöhenunterschiede\n↑↓274m\nMitzubringen\nWanderschuhe\, Sonnenschutz
 \, ausreichend Trinkwasser\, Badesachen\, Verpflegung.\n\nAbholzeiten\nMar
 bella: 9:00Estepona 9:30\nVoraussichtliche Rückkehr\n17:00\nPreis: 65€\nIn
 begriffen\nWanderführer\, Versicherung\, Transport zum Ausgangspunkt und z
 urück\nNicht inbegriffen\nEssen und Getränke\nVorherige Anmeldung unbeding
 t erforderlich\n&nbsp\;&nbsp\;\n&nbsp\;\n&nbsp\;\n&nbsp\;\n&nbsp\;\n
DTSTART:20260604T152600Z
DTEND:20260604T152600Z
GEO:00;0
LOCATION:
ORGANIZER:
SEQUENCE:1
SUMMARY:Rio de la Miel\, der Honigfluss im Regenwald
TRANSP:OPAQUE
URL:https://www.sur-walks.com/de/programm-tageswanderungen/73-rio-de-la-mie
 l-flusstour/2026-06-04-15-26
END:VEVENT
END:VCALENDAR
