BEGIN:VCALENDAR
VERSION:2.0
PRODID:-//SUR-walks, Andalusien Wandern//NONSGML kigkonsult.se iCalcreator 
 2.30.10//
CALSCALE:GREGORIAN
METHOD:PUBLISH
UID:fcda64b0-afc3-4235-ae6b-3bbe52a733ca
X-WR-CALNAME:iCagenda
X-WR-CALDESC:Event Management Extension for Joomla!
X-WR-RELCALID:3E26604A-50F4-4449-8B3E-E4F4932D05B5
X-WR-TIMEZONE:UTC
BEGIN:VTIMEZONE
TZID:UTC
END:VTIMEZONE
BEGIN:VEVENT
UID:97afc96e-06b8-40e0-8adb-222399def945
DTSTAMP:20260423T063640Z
CATEGORIES:TAGESWANDERUNGEN leicht
CLASS:PUBLIC
DESCRIPTION;ALTREP="CID:<FFFF__=0ABBE548DFE235B58f9e8a93d@coffeebean.com>":
 Ein Spaziergang durch Obstgärten\, unter Korkeichen\, über Terrassen und a
 lte Wege entlang der alten Bewässerungskanäle von Istán\, durch das weiße 
 Dorf\, mit Aussicht über den Trinkwasserstausee\nUnser Spaziergang beginnt
  bei der Kapelle San Miguel\, kurz vor dem Ort und führt bis zur Quelle\, 
 die mit ihrem kristallklaren Wasser\, die Bewässerungskanäle speist. Wir f
 olgen diesen Kanälen über einen sehr schön angelegten Weg\, im Schatten de
 r Bäume\, oberhalb der in Terrassen angelegten Obstgärten. Wieder im Ort a
 ngelangt wandern wir noch zu einem Aussichtspunkt von wo wir das gesamte T
 al des Río Verde und den Stausee\, und hinunter bis ans Meer blicken könne
 n. Wir besuchen das hübsche weisse Dorf Istán und haben die Möglichkeit au
 f dem Platz vor der Kirche die landesüblichen Tapas zu geniessen.&nbsp\;\n
 Schwierigkeitsgrad\n&nbsp\;leicht - 7 km - ca. 3 Stunden\nHöhenunterschied
 e\n↑↓270m\n\nBitte mitbringen\nWanderschuhe oder bequeme Sportschuhe\, Son
 nen/Regenschutz\, Trinkwasser.&nbsp\;\nAbholzeiten\nMarbella: 9:00\nVoraus
 sichtliche Rückkehr\n16:00\nPreis: 60€\nInbegriffen\nWanderführer\, Versic
 herung\, Transport zum Ausgangspunkt und zurück\nNicht inbegriffen\nEssen 
 und Getränke\nVorherige Anmeldung unbedingt erforderlich\n&nbsp\;
DTSTART:20260512T162300Z
DTEND:20260512T162300Z
GEO:+36.58271;-4.949663
LOCATION:
ORGANIZER:
SEQUENCE:1
SUMMARY:Von der Kapelle San Miguel  zu den Gärten von Istán
TRANSP:OPAQUE
URL:https://www.sur-walks.com/de/programm-tageswanderungen/85-istan-gaerten
END:VEVENT
END:VCALENDAR
