BEGIN:VCALENDAR
VERSION:2.0
PRODID:-//SUR-walks, senderismo en Andalucía//NONSGML kigkonsult.se iCalcre
 ator 2.30.10//
CALSCALE:GREGORIAN
METHOD:PUBLISH
UID:18e3f2d9-a71c-41b7-b3b2-379437c968c9
X-WR-CALNAME:iCagenda
X-WR-CALDESC:Event Management Extension for Joomla!
X-WR-RELCALID:3E26604A-50F4-4449-8B3E-E4F4932D05B5
X-WR-TIMEZONE:UTC
BEGIN:VTIMEZONE
TZID:UTC
END:VTIMEZONE
BEGIN:VEVENT
UID:49aa5115-dc80-41b4-a953-a111cf66abcf
DTSTAMP:20260420T070413Z
CATEGORIES:INFO_es
CLASS:PUBLIC
DESCRIPTION:
DTSTART:20260427T133300Z
DTEND:20260427T133300Z
GEO:00;0
LOCATION:
ORGANIZER:
SEQUENCE:1
SUMMARY:Grupo cerrado\, no disponible para reservas
TRANSP:OPAQUE
URL:https://www.sur-walks.com/es/component/icagenda/388-grupo-privado?Itemi
 d=114
END:VEVENT
END:VCALENDAR
