BEGIN:VCALENDAR
VERSION:2.0
PRODID:-//SUR-walks, senderismo en Andalucía//NONSGML kigkonsult.se iCalcre
 ator 2.30.10//
CALSCALE:GREGORIAN
METHOD:PUBLISH
UID:91126f24-a981-4307-9ed3-0eb639ae8de0
X-WR-CALNAME:iCagenda
X-WR-CALDESC:Event Management Extension for Joomla!
X-WR-RELCALID:3E26604A-50F4-4449-8B3E-E4F4932D05B5
X-WR-TIMEZONE:UTC
BEGIN:VTIMEZONE
TZID:UTC
END:VTIMEZONE
BEGIN:VEVENT
UID:f34b28c7-be36-4b94-bfc4-d4300d70f2ea
DTSTAMP:20260420T052630Z
CATEGORIES:EXCURSIONES DE UN DÍA fácil
CLASS:PUBLIC
DESCRIPTION;ALTREP="CID:<FFFF__=0ABBE548DFE235B58f9e8a93d@coffeebean.com>":
 Ruta circular desde el hermoso pueblo blanco Gaucín\, el balcón de la Serr
 anía de Ronda\,con excelentes vistas a la Serranía y la sobre la Costa\nUn
 a ruta circular y bastante fácil de seguir y muy agradable. Comenzamos des
 de Gaucín\, uno de los pueblos más típicos de Serranía de Ronda. Pasando p
 or medio de alcornoques\, castaños y tierras de cultivo\, continuamos nues
 tra ruta con magníficas vistas sobre la costa y las montañas circundantes.
 \n\nPor encima del pueblo se encuentra el castillo árabe 'Castillo del Águ
 ila'\, un fortaleza importante y muy luchado durante la ocupación musulman
 a y la reconquista de los ejércitos cristianos.\nAl final de la ruta podem
 os tomar unas tapas en el pueblo.\nDificultad&nbsp\;\nfácil – 7 km - &nbsp
 \;3 horas\nDesniveles\n↑↓350m\n&nbsp\;Se recomienda llevar\nCalzado de sen
 derismo\, protección solar y contra la lluvia\, agua.&nbsp\;\n\nRecogidas
 \nMarbella: 9:00Estepona 9:30\nRegreso estimado\n18:00\nPrecio: 65€\nInclu
 ye\nGuía y el transporte al punto de partida y de regreso\nNo incluido\nCo
 midas y bebidas\nEs imprescindible registrase antes
DTSTART:20211005T000000Z
DTEND:20211005T000000Z
GEO:+36.518604;-5.316653
LOCATION:
ORGANIZER:
SEQUENCE:1
SUMMARY:Gaucín - Camino de Umbría
TRANSP:OPAQUE
URL:https://www.sur-walks.com/es/programa/102-gaucin-umbria/2021-10-05-00-0
 0
END:VEVENT
END:VCALENDAR
