BEGIN:VCALENDAR
VERSION:2.0
PRODID:-//SUR-walks, senderismo en Andalucía//NONSGML kigkonsult.se iCalcre
 ator 2.30.10//
CALSCALE:GREGORIAN
METHOD:PUBLISH
UID:dffef4b5-58b4-4a3b-9dbd-83fe64292d17
X-WR-CALNAME:iCagenda
X-WR-CALDESC:Event Management Extension for Joomla!
X-WR-RELCALID:3E26604A-50F4-4449-8B3E-E4F4932D05B5
X-WR-TIMEZONE:UTC
BEGIN:VTIMEZONE
TZID:UTC
END:VTIMEZONE
BEGIN:VEVENT
UID:44b3b6c4-ef26-4b39-a209-b9a39e9c30e0
DTSTAMP:20260421T072824Z
CATEGORIES:EXCURSIONES DE UN DÍA fácil
CLASS:PUBLIC
DESCRIPTION;ALTREP="CID:<FFFF__=0ABBE548DFE235B58f9e8a93d@coffeebean.com>":
 Una caminata maravillosa y realmente fácil a lo largo del canal de riego d
 el río Guadalmina con una vista a la garganta de Angosturas desde un puent
 e de madera sobre la garganta&nbsp\;\n&nbsp\;Las acequias forman parte de 
 un sistema de riego&nbsp\;para huertas y alquerías&nbsp\;desde la época mu
 selmana.&nbsp\;La actual acequia se ha adaptado para el senderismo y para 
 conocer la flora autóctona de la zona. Cruzamos un puente de madera que no
 s permite ver un impresionante cañon muy popular\, sobre todo en verano\, 
 para nadar en sus piscinas naturales y practicar el canyoning. El regreso 
 tambien nos lleva por un camino bonito y perfectamente adaptado para andar
  a lo largo del río. Al final de la ruta visitamos el pueblo Benahavís y p
 odemos tomar unas tapas en este pueblo famoso por sus muchos restaurantes.
 &nbsp\;\nDificultad\n&nbsp\;fácil - 4\,5 km - aprox. 2 horas\nElevaciones
 \nn↓45m\nHay que llevar\nZapatos de senderismo\, protección contra lluvia/
 sol\, agua.\nRecogida\nEstepona: 10:00Marbella: 10:30&nbsp\;Mas tarde de l
 o usual\nRegreso estimado\n16:00\n\nPrecio: 55€\nIncluye\nGuía\, seguro y 
 el transporte al punto de partida y de regreso\nNo incluye\nComidas y bebi
 das\nEs imprescindible registrase antes
DTSTART:20211108T000000Z
DTEND:20211108T000000Z
GEO:00;0
LOCATION:
ORGANIZER:
SEQUENCE:1
SUMMARY:Paseo por las acequias del río Guadalmina
TRANSP:OPAQUE
URL:https://www.sur-walks.com/es/programa/253-acequias-del-guadalmina/2021-
 11-08-00-00
END:VEVENT
END:VCALENDAR
