BEGIN:VCALENDAR
VERSION:2.0
PRODID:-//SUR-walks, senderismo en Andalucía//NONSGML kigkonsult.se iCalcre
 ator 2.30.10//
CALSCALE:GREGORIAN
METHOD:PUBLISH
UID:c74d438a-7a5d-4fce-ac3b-26f6dd3f689a
X-WR-CALNAME:iCagenda
X-WR-CALDESC:Event Management Extension for Joomla!
X-WR-RELCALID:3E26604A-50F4-4449-8B3E-E4F4932D05B5
X-WR-TIMEZONE:UTC
BEGIN:VTIMEZONE
TZID:UTC
END:VTIMEZONE
BEGIN:VEVENT
UID:a0c25548-5971-4402-aa71-48cdaaf898ad
DTSTAMP:20260421T051418Z
CATEGORIES:VACACIONES DE SENDERISMO
CLASS:PUBLIC
DESCRIPTION;ALTREP="CID:<FFFF__=0ABBE548DFE235B58f9e8a93d@coffeebean.com>":
 Un trekking de 8 días por el 'Valle Feliz' de Ait Bougmez y Zaouiat Ahansa
 l\, en el Alto Atlas central. Caminaremos por un paisaje de impresionante 
 belleza\, con exuberante vegetación\, profundas gargantas\, cascadas y peq
 ueñas aldeas de montaña del pueblo amazigh (bereberes)\, conocido por su h
 ospitalidad\, pernoctando en casas de huéspedes tradicionales para conocer
  la historia\, la cultura y el modo de vida actual de este amable pueblo.T
 ransporte de equipaje\, sólo tendrá que llevar una pequeña mochila de un d
 ía.\n\n&nbsp\;\n&nbsp\;1º día\nAeropuerto de Marrakech\, traslado a su Ria
 d\nRecepción por nuestro guía marroquí de habla inglesa y traslado a nuest
 ro Riad. Primera noche y tiempo libre para sumergirse en la vibrante vida 
 de Marrakech.\n&nbsp\; &nbsp\; &nbsp\; &nbsp\; &nbsp\; &nbsp\; &nbsp\; &nb
 sp\; &nbsp\; &nbsp\; &nbsp\; &nbsp\; &nbsp\; &nbsp\; &nbsp\; &nbsp\; &nbsp
 \; &nbsp\; &nbsp\; &nbsp\; &nbsp\; &nbsp\; &nbsp\; &nbsp\; &nbsp\; &nbsp\;
  &nbsp\; &nbsp\; &nbsp\; &nbsp\; &nbsp\; &nbsp\; &nbsp\; &nbsp\; &nbsp\; &
 nbsp\; &nbsp\; &nbsp\; &nbsp\; &nbsp\; &nbsp\; &nbsp\; &nbsp\; &nbsp\; &nb
 sp\; &nbsp\; &nbsp\; &nbsp\; &nbsp\; &nbsp\; &nbsp\; &nbsp\; &nbsp\; &nbsp
 \; &nbsp\; &nbsp\; &nbsp\; &nbsp\; &nbsp\; &nbsp\; &nbsp\; &nbsp\; &nbsp\;
  &nbsp\; &nbsp\; &nbsp\; &nbsp\; &nbsp\; &nbsp\; &nbsp\; &nbsp\; &nbsp\; &
 nbsp\; &nbsp\; &nbsp\; &nbsp\; &nbsp\; &nbsp\; &nbsp\; &nbsp\; &nbsp\; &nb
 sp\; &nbsp\; &nbsp\; &nbsp\;&nbsp\;\n2º día\nMarrakech (450 m) - Valle de 
 Ait Bougummez - Pueblo de Arouss (1900 m)\nSalida de Marrakech en minibús 
 hacia el Alto Atlas y el valle de Ait Bougmez (4 horas). Almuerzo por el c
 amino. Llegada a la casa de huéspedes\, donde dejaremos el equipaje. Despu
 és de un té de bienvenida\, saldremos a descubrir los alrededores de la ca
 sa de huéspedes: el pueblo de Arouss y sus gargantas. Más o menos 2 horas 
 de marcha según la hora de llegada.\nCena en casa de nuestros anfitriones.
  Casa rural Tamazirt.\nHabitaciones para 2-3-4 personas - baños compartido
 s\n3º día\nGite Tamazirt ( 1900 m ) – Gorges d'Arouss – Tulipe d'Ikiss ( 2
 200 m )\nDespués de desayunar en la casa rural\, partiremos para el trekki
 ng\, las mulas llevarán nuestro equipaje.\nEn este primer día de trekking\
 , subiremos por el valle de Arouss. El primer pueblo es una oportunidad pa
 ra descubrir la diversidad de la arquitectura local de adobe. Por el camin
 o\, antiguos graneros rupestres dan testimonio de un pasado agrícola. Lleg
 ada a Ikiss\, lugar de trashumancia en verano\, vista panorámica de las cu
 mbres del M'goun. 2h-2h30 de caminata.\nSiesta y paseo desde la casa rural
  hasta las gargantas de Arouss. 2 horas de marcha.\nComida\, cena y alojam
 iento en el Tulipán D'Ikiss.\nHabitación para 2-6 personas - baños compart
 idos.\nDesnivel: Ascenso 350 m/ Descenso: 100 m -\nAlojamiento: Gite d'éta
 pe\n4º día\nTulip d'Ikiss ( 2200 m ) – puerto a 2800m -&nbsp\;pueblo d'Agu
 erd N Ouzrou ( 1850 m )\nDespués del desayuno en el Ikkis Tulip Lodge\, sa
 lida para nuestro ascenso con impresionantes vistas para hacer fotos.\nPic
 nic en plena naturaleza\, tras un bonito descenso llegamos al 'Valle Feliz
 ' en el pueblo de Aguerd n-Ouzrou.\n5 horas 30 de marcha - Desnivel: Ascen
 so 600 m/ Descenso 1000 m -\nCena y alojamiento en la Casa de huéspedes Ka
 sbah M'Goun.\n&nbsp\;\n\nDay 5\nAit Bougmez Valley – Zouiate Ahançal Valle
 y – Taghia pueblo&nbsp\;\nDespués del desayuno\, dejaremos el valle de Ait
  Bougmez en minibús para continuar nuestra ruta en el valle de Zaouiate Ah
 ençal.\nTras 2 horas de traslado\, llegamos al pueblo de Taghia. Taghia es
  un pequeño pueblo de 400 habitantes\, encaramado a 1900 metros de altitud
 . El pueblo está rodeado por un circo de paredes que varían entre 300 y 80
 0 metros de altura. Los manantiales que nacen alrededor\, proporcionan una
  relativa prosperidad a los bereberes que viven en el valle\, gracias a lo
 s numerosos huertos y cultivos que riegan constantemente. Taghia es la mej
 or zona de escalada de Marruecos.\nPaseo de 2 horas por las gargantas al f
 inal de la tarde.\nAlmuerzo\, cena y alojamiento en una casa rural\n&nbsp\
 ;\n6º día\nRegeso al pueblo de Agoudim - Visita al Kasbah de Zaouiat Ahans
 al\nCaminata río abajo hasta el pueblo de Agoudim\, almuerzo en el albergu
 e y descanso después de comer.\nCena y alojamiento en el hotel Dar Ahançal
  o similar.\n4 horas de marcha\n&nbsp\;\n\n7º día\nZouiate Ahençal&nbsp\; 
 - Azilal – Ouzoud cascadas&nbsp\; - &nbsp\;Marrakech\nAbandonamos el valle
  del Zaouiate\, dejando atrás las cumbres del Atlas y sus acogedores habit
 antes.\nPor el camino\, visita a las cascadas de Ouzoud\, las más altas de
  Marruecos\, donde se pueden ver monos.\nAlmuerzo in situ y alojamiento en
  el Riad.\n4 h de senderismo\n&nbsp\;\n8º día\nDía de salida\nTraslado des
 de nuestro hotel al aeropuerto de Marrakech para el vuelo de salida.\n&nbs
 p\;\nPRECIOS Y CONDICIONES\nPresupuestos para grupos: johanna@sur-walks.co
 m\nEl precio incluye\n\n8 días / 7 noches ( 5 noches en el trekking en pen
 sión completa y 2 noches en riad en Marrakech )\nGuía de montaña bereber y
  de habla inglesa durante el trekking\nMinibús o vehículo 4X4 para todos l
 os traslados\nMulas para llevar el equipaje\nTraslados de llegada y salida
  del aeropuerto\nAgua durante el trekking\n\nEl precio no incluye\n\nEl vu
 elo de ida y vuelta desde su país a Marrakech en vuelo directo\nTasas de a
 eropuerto y 1 pieza de equipaje facturado incluido\notras bebidas&nbsp\;\n
 Propinas para los equipos.\nExtras\nSeguro opcional de anulación\, equipaj
 e\, asistencia y repatriación\n\nSEGURO DE VIAJE OBLIGATORIO
DTSTART:20000101T000000Z
DTEND:20000101T000000Z
GEO:00;0
LOCATION:
ORGANIZER:
SEQUENCE:1
SUMMARY:El Valle Feliz de Marruecos
TRANSP:OPAQUE
URL:https://www.sur-walks.com/es/semanas-de-senderismo/474-valle-feliz-marr
 uecos
END:VEVENT
END:VCALENDAR
