BEGIN:VCALENDAR
VERSION:2.0
PRODID:-//SUR-walks, senderismo en Andalucía//NONSGML kigkonsult.se iCalcre
 ator 2.30.10//
CALSCALE:GREGORIAN
METHOD:PUBLISH
UID:fc9009f9-e100-4b63-9005-4633f4e11c61
X-WR-CALNAME:iCagenda
X-WR-CALDESC:Event Management Extension for Joomla!
X-WR-RELCALID:3E26604A-50F4-4449-8B3E-E4F4932D05B5
X-WR-TIMEZONE:UTC
BEGIN:VTIMEZONE
TZID:UTC
END:VTIMEZONE
BEGIN:VEVENT
UID:26ebac35-62e6-456f-8a11-cc8570278d80
DTSTAMP:20260419T231623Z
CATEGORIES:VACACIONES DE SENDERISMO
CLASS:PUBLIC
DESCRIPTION;ALTREP="CID:<FFFF__=0ABBE548DFE235B58f9e8a93d@coffeebean.com>":
 De azul a azul - senderismo en las montañas Rif en Marruecos\n5 días de se
 nderismo desde la 'ciudad azul' de Chefchaouen a la costa mediterránea\nNu
 estra ruta comienza en la encantadora ciudad azul de Chefchaouen\, al pie 
 de las montañas Rif de Marruecos\, con sus ríos cristalinos que fluyen por
  el centro de la ciudad. Caminamos a través de prados y campos\, pasando p
 or pequeños pueblos de montaña\, senderos de montañas rocosas\, a través d
 e bosques\, sobre picos de montañas a cascadas y finalmente a la costa med
 iterránea. En la ciudad de Chefchaouen y en Tetuán nos alojamos en un herm
 oso Riad Hotel\, en el Parque Nacional en casas de huéspedes\, al estilo d
 e cabañas de montaña\, algunas más sencillas que otras.\nHIGHLIGHTS:\n\nCh
 efchaouen\, la ciudad azul\nParque Nacional Talassemtane\nBosque de Pinsap
 o\nCascada Akchour\nEl puente de Dios\nBuena comida\n\n&nbsp\;\nUna semana
  de senderismo de montaña desafiante pero inolvidable a través del Parque 
 Nacional Talassemtane.\nPROGRAMA:&nbsp\;\nDía 1 - llegada\nTRANSFER DESDE 
 MARBELLA A CHEFCHAOUEN\nTransfer desde Marbella a Algeciras. Tomamos e fer
 ry desde Algeciras a Tánger Med\, desde allí viajamos en mini-bus hasta Ch
 efchaouen. Nos recibe nuestro guía local de senderismo para enseñarnos su 
 ciudad. Cena y alojamiento en un carismático Hotel en Chefchaouen.\n\n\nDí
 a 2 - primer día de ruta\nCHEFCHAOUEN -ZAOUIYA HABTENNE\nDespués de un des
 ayuno tradicional comenzamos la caminata&nbsp\;hacia el Parque Nacional Ta
 lassemtane\, acompañado de nuestro guía local. La caminata dura 4 horas. E
 n el camino rocoso de las montañas Tissouka\, disfrutamos de una amplia vi
 sta sobre la ciudad de Chefchaouen y sobre el comienzo del valle Oued Laou
  con sus típicos paisajes agrícolas. Veremos las viviendas tradicionales d
 e las aldeas de Rif. Pasamos por el pueblo Mechkralla y finalmente a Zaoui
 ya Habtenne al final de la caminata. Después del almuerzo y un descanso ca
 minamos por el pueblo para observar la vida cotidiana de los Rifeños.\nPen
 sión completa en el GiteTalassemtane.\nDificultad:\n&nbsp\;fácil/medio- 4 
 horas\, 12 km\nElevaciones:\n↑461&nbsp\; ↓348m\n\n\nDía 3 - segundo día de
  ruta\nZAOUIYA-JBEL LAKRAA-GITE AZILAN\nTemprano por la mañana comenzamos 
 nuestra caminata hasta el pico más alto de la provincia de Chefchaouen. En
  el camino pasamos por las cuevas y los magníficos abetos\, famosos en el 
 Parque Nacional Talassemtane. Nos detenemos para almorzar en Cave Baroud\,
  una antigua cueva que fue un refugio durante la Guerra del Rif. Continuam
 os la ruta a la cumbre\, las vistas maravillosas son la recompensa para nu
 estro esfuerzo. y luego bajamos a la 'Plaza de España'\, un lugar maravill
 oso con muchos abetos Pinsapo\, una especie endémica de la cual solo hay c
 uatro bosques en la tierra (Cordillera Bética de Andalucía y Rif). Traslad
 o en Landrover a Azilane donde pasaremos la noche. En nuestro alojamiento 
 bastante sencillo (sin agua caliente) nos espera un anfitrón muy amable y 
 una cena maravillosa.\nDificultad:\n&nbsp\;difícil- 7 horas\, 15 km\nEleva
 ciones:\n↑1213m&nbsp\; ↓462m\n\nDía 4 - tercer día de ruta\nAZILANE-IMEZZA
 R- OUSELAF- PONT DE DIEU AKCHOUR&nbsp\;\nSalimos de Azilane después del de
 sayuno con una vista del bosque de abetos y la montaña Jbel Tissouka. Cont
 inuamos hacia la aldea de Imizzar y cruzamos la fuente de Ain Danou proced
 ente de Oued Farda. Es un importante sistema acuático saliendo de una cuev
 a que le da nombre al río. El Oued Farda es un pequeño arroyo embravecido\
 , muy típico en las montañas del Rif\, y a los valientes les invita a un b
 año refrescante. Finalmente\, llegamos al famoso 'Puente de Dios'\, una ve
 rdadera curiosidad de la naturaleza.\n\n&nbsp\;El puente de Dios es un eno
 rme arco natural que ha sido formado con el tiempo por el Oued Farda. Almo
 rzaremos en el Puente de Dios\, luego continuaremos hacia Akchour\, donde 
 nos queda tiempo para descubriremos el entorno tradicional y muy popular.
 \nCena y alojamiento en el Gite Akchour.&nbsp\;\nDificultad:\n&nbsp\;medio
 - 6 horas\, 14 km\nElevaciones:\n↑505↓1340m\n\nDía 5 - cuarto día de ruta
 \n\nAKCHOUR-CASCADE OUED FARD- AKCHOUR\nLa caminata de hoy nos lleva a las
  cataratas de Akchour\, un tesoro escondido en el corazón de las montañas 
 Rif. Subimos por un sendero muy bonito a lo largo del río\, pasando por un
 a auténtica jungla\, con cascadas y piscinas en el río\, Después de 3 hora
 s de caminata almorzamos a orillas del río Oued Kelaa\, junto a la última 
 y más grande cascada. Después de un largo descanso y un baño volvemos a Ak
 chour. Cena y noche en el mismo Hotel.&nbsp\;\nDificultad:\n&nbsp\;fácil- 
 5 horas\, 14 km\nElevaciones:\n↑↓283m\n\nDía 6 - quinto y último día de ru
 ta\nAKCHOUR - BNI MALAA - OUED LAW\nSalimos muy temprano para caminar de A
 kchour a Bni Malaa (15 km)\, donde nos esperan unos Land Rover para llevar
 nos hasta el Mediterráneo. En las aguas límpias y azules de la playa de Qu
 ed Laou se termina nuestra ruta de AZUL A AZUL. Almorzamos en Oued Laou y 
 tomamos el tiempo libre en la playa\, luego nos&nbsp\;trasladamos a Tetuán
 .&nbsp\;\n\nDificultad:\n&nbsp\;medio- 5 horas\, 15 km\nElevaciones:\n↑862
 ↓476m\n&nbsp\;\n\nDía 7 - regreso a Marbella\n\nTETUÁN - MARBELLA\nTransfe
 r de Tetuán a Tánger Med. Ferry desde Tánger a Algeciras\, llegaremos sobr
 e las 16:30 aproximadamente a Algeciras. Los transbordadores pueden retras
 arse\, no reserves tu vuelo para la misma tarde.\n&nbsp\;Si todos lo desea
 n\, podemos tomarnos un último descanso\, una cervecita y unas sardinas al
  espeto en un Chiringuito de camino a Marbella.&nbsp\;\n\n&nbsp\;\nPRECIOS
  Y CONDICIONES\nPresupuestos para grupos: johanna@sur-walks.com\nIncluido:
 \nTodos los transportes: Minibus de Marbella a Chefchaouen y viceversa\, f
 erry\, transfer en 4x4 en el parque. Guía de senderismo local y guía de vi
 aje. Alojamiento con desayuno\, y media pensión durante la caminata de 5 d
 ías. Botellas de agua.\nNo incluido:\nCena en Chefchaouen en la primera ta
 rde y almuerzo en el camino de regreso a Marbella. Otras comidas y bebidas
 \n&nbsp\;\nTERMINOS y CONDICIONES - REGISTRACION:\n\n\nPara participar en 
 este tour es importante leer la descripción completa de cada día.\n\n\nNec
 esitas tener un buen estado físico\, hay tramos difíciles\, no hay abismos
  ni partes perligrosos\, pero sí trayectos largos con muchas cuestas pro.
 \n\n\nPasaporte válido (no tarjeta de identificación) válido por al menos 
 6 meses más a la fecha del viaje\n\n\nSeguro de salud válido en Marruecos
 \n\n\nProblemas de salud deben comunicarse al líder del tour al registrars
 e\n\n\nTeng en cuenta que llevarás tu propio equipaje (mochila)\, no hay t
 ransporte de equipaje\; se te proporcionará una lista de empaque detallada
 .\n\n\nSi es la primera vez que vienes con nosotros debes enviar un correo
  electrónico con todos tus detalles\, nombre completo\, correo electrónico
 \, número de teléfono\, una foto y una breve introducción sobre tí a: joha
 nna@sur-walks.com\n\n\n&nbsp\;\n\n&nbsp\;\n
DTSTART:20000101T000000Z
DTEND:20000101T000000Z
GEO:00;0
LOCATION:
ORGANIZER:
SEQUENCE:1
SUMMARY:De azul a azul - Semana de senderismo en el Rif de Marruecos
TRANSP:OPAQUE
URL:https://www.sur-walks.com/es/semanas-de-senderismo/bajo-peticion/217-de
 -azul-a-azul
END:VEVENT
END:VCALENDAR
